BEGIN:VCALENDAR
VERSION:2.0
PRODID:-//Welcome - ECPv6.15.20//NONSGML v1.0//EN
CALSCALE:GREGORIAN
METHOD:PUBLISH
X-WR-CALNAME:Welcome
X-ORIGINAL-URL:https://eci.com.al
X-WR-CALDESC:Events for Welcome
REFRESH-INTERVAL;VALUE=DURATION:PT1H
X-Robots-Tag:noindex
X-PUBLISHED-TTL:PT1H
BEGIN:VTIMEZONE
TZID:UTC
BEGIN:STANDARD
TZOFFSETFROM:+0000
TZOFFSETTO:+0000
TZNAME:UTC
DTSTART:20240101T000000
END:STANDARD
END:VTIMEZONE
BEGIN:VTIMEZONE
TZID:Europe/Tirane
BEGIN:DAYLIGHT
TZOFFSETFROM:+0100
TZOFFSETTO:+0200
TZNAME:CEST
DTSTART:20240331T010000
END:DAYLIGHT
BEGIN:STANDARD
TZOFFSETFROM:+0200
TZOFFSETTO:+0100
TZNAME:CET
DTSTART:20241027T010000
END:STANDARD
BEGIN:DAYLIGHT
TZOFFSETFROM:+0100
TZOFFSETTO:+0200
TZNAME:CEST
DTSTART:20250330T010000
END:DAYLIGHT
BEGIN:STANDARD
TZOFFSETFROM:+0200
TZOFFSETTO:+0100
TZNAME:CET
DTSTART:20251026T010000
END:STANDARD
BEGIN:DAYLIGHT
TZOFFSETFROM:+0100
TZOFFSETTO:+0200
TZNAME:CEST
DTSTART:20260329T010000
END:DAYLIGHT
BEGIN:STANDARD
TZOFFSETFROM:+0200
TZOFFSETTO:+0100
TZNAME:CET
DTSTART:20261025T010000
END:STANDARD
END:VTIMEZONE
BEGIN:VEVENT
DTSTART;TZID=UTC:20260418T000000
DTEND;TZID=UTC:20260418T235959
DTSTAMP:20260423T195150
CREATED:20260411T092830Z
LAST-MODIFIED:20260411T092830Z
UID:352-1776470400-1776556799@eci.com.al
SUMMARY:C1 (CAE)
DESCRIPTION:
URL:https://eci.com.al/calendar-event/c1-cae/
LOCATION:Tirana\, Albania
ORGANIZER;CN="English Cultural Institute":MAILTO:englishculturalinstitute@gmail.com
END:VEVENT
BEGIN:VEVENT
DTSTART;TZID=UTC:20251213T000000
DTEND;TZID=UTC:20251213T235959
DTSTAMP:20260423T195150
CREATED:20250918T092202Z
LAST-MODIFIED:20250923T083610Z
UID:177-1765584000-1765670399@eci.com.al
SUMMARY:B2 (FCE fs)\, C1 (CAE)\, C2 (CPE) Exams
DESCRIPTION:
URL:https://eci.com.al/calendar-event/b2-fce-fs-c1-cae-exams/
LOCATION:Tirana\, Albania
ORGANIZER;CN="English Cultural Institute":MAILTO:englishculturalinstitute@gmail.com
END:VEVENT
BEGIN:VEVENT
DTSTART;TZID=UTC:20251122T000000
DTEND;TZID=UTC:20251122T235959
DTSTAMP:20260423T195150
CREATED:20250918T092118Z
LAST-MODIFIED:20250918T092558Z
UID:175-1763769600-1763855999@eci.com.al
SUMMARY:A2 (KET)\, B1 (PET) Exams
DESCRIPTION:
URL:https://eci.com.al/calendar-event/a2-ket-b1-pet-exam/
LOCATION:Tirana\, Albania
ORGANIZER;CN="English Cultural Institute":MAILTO:englishculturalinstitute@gmail.com
END:VEVENT
BEGIN:VEVENT
DTSTART;TZID=UTC:20251115T000000
DTEND;TZID=UTC:20251115T235959
DTSTAMP:20260423T195150
CREATED:20250918T092034Z
LAST-MODIFIED:20250918T092640Z
UID:173-1763164800-1763251199@eci.com.al
SUMMARY:A2 (KET fs)\, B1 (PET fs)\, B2 (FCE fs)\, C1 (CAE) Exams
DESCRIPTION:
URL:https://eci.com.al/calendar-event/a2-ket-fs-b1-pet-fs-b2-fce-fs-c1-cae-exams/
LOCATION:Tirana\, Albania
ORGANIZER;CN="English Cultural Institute":MAILTO:englishculturalinstitute@gmail.com
END:VEVENT
BEGIN:VEVENT
DTSTART;TZID=UTC:20251018T000000
DTEND;TZID=UTC:20251018T235959
DTSTAMP:20260423T195150
CREATED:20250917T134418Z
LAST-MODIFIED:20250918T092654Z
UID:170-1760745600-1760831999@eci.com.al
SUMMARY:C1 (CAE) Exam
DESCRIPTION:
URL:https://eci.com.al/calendar-event/c1-cae-exam/
LOCATION:Tirana\, Albania
ORGANIZER;CN="English Cultural Institute":MAILTO:englishculturalinstitute@gmail.com
END:VEVENT
BEGIN:VEVENT
DTSTART;TZID=UTC:20251004T000000
DTEND;TZID=UTC:20251004T235959
DTSTAMP:20260423T195150
CREATED:20250917T134304Z
LAST-MODIFIED:20250918T092707Z
UID:168-1759536000-1759622399@eci.com.al
SUMMARY:B2 (FCE) Exam
DESCRIPTION:
URL:https://eci.com.al/calendar-event/b2-fce-exam/
LOCATION:Tirana\, Albania
END:VEVENT
BEGIN:VEVENT
DTSTART;TZID=Europe/Tirane:20250920T000000
DTEND;TZID=Europe/Tirane:20250920T235959
DTSTAMP:20260423T195150
CREATED:20250917T113833Z
LAST-MODIFIED:20250923T083635Z
UID:161-1758326400-1758412799@eci.com.al
SUMMARY:B2 (FCE fs) EXAM
DESCRIPTION:
URL:https://eci.com.al/calendar-event/b2-fce-fs-exam/
LOCATION:Tirana\, Albania
ORGANIZER;CN="English Cultural Institute":MAILTO:englishculturalinstitute@gmail.com
END:VEVENT
END:VCALENDAR