BEGIN:VCALENDAR
VERSION:2.0
PRODID:-//Welcome - ECPv6.15.20//NONSGML v1.0//EN
CALSCALE:GREGORIAN
METHOD:PUBLISH
X-ORIGINAL-URL:https://eci.com.al
X-WR-CALDESC:Events for Welcome
REFRESH-INTERVAL;VALUE=DURATION:PT1H
X-Robots-Tag:noindex
X-PUBLISHED-TTL:PT1H
BEGIN:VTIMEZONE
TZID:UTC
BEGIN:STANDARD
TZOFFSETFROM:+0000
TZOFFSETTO:+0000
TZNAME:UTC
DTSTART:20250101T000000
END:STANDARD
END:VTIMEZONE
BEGIN:VEVENT
DTSTART;TZID=UTC:20260613T000000
DTEND;TZID=UTC:20260613T235959
DTSTAMP:20260423T163620
CREATED:20260411T093015Z
LAST-MODIFIED:20260411T093015Z
UID:358-1781308800-1781395199@eci.com.al
SUMMARY:B2 (FCE fs)
DESCRIPTION:
URL:https://eci.com.al/calendar-event/b2-fce-fs/
LOCATION:Tirana\, Albania
ORGANIZER;CN="English Cultural Institute":MAILTO:englishculturalinstitute@gmail.com
END:VEVENT
BEGIN:VEVENT
DTSTART;TZID=UTC:20260620T000000
DTEND;TZID=UTC:20260620T235959
DTSTAMP:20260423T163620
CREATED:20260411T093635Z
LAST-MODIFIED:20260411T093635Z
UID:360-1781913600-1781999999@eci.com.al
SUMMARY:B2 (FCE Fs)\, C1 (CAE)
DESCRIPTION:
URL:https://eci.com.al/calendar-event/b2-fce-fs-c1-cae/
LOCATION:Tirana\, Albania
ORGANIZER;CN="English Cultural Institute":MAILTO:englishculturalinstitute@gmail.com
END:VEVENT
END:VCALENDAR