BEGIN:VCALENDAR
VERSION:2.0
PRODID:-//Welcome - ECPv6.15.20//NONSGML v1.0//EN
CALSCALE:GREGORIAN
METHOD:PUBLISH
X-ORIGINAL-URL:https://eci.com.al
X-WR-CALDESC:Events for Welcome
REFRESH-INTERVAL;VALUE=DURATION:PT1H
X-Robots-Tag:noindex
X-PUBLISHED-TTL:PT1H
BEGIN:VTIMEZONE
TZID:UTC
BEGIN:STANDARD
TZOFFSETFROM:+0000
TZOFFSETTO:+0000
TZNAME:UTC
DTSTART:20250101T000000
END:STANDARD
END:VTIMEZONE
BEGIN:VEVENT
DTSTART;TZID=UTC:20260912T000000
DTEND;TZID=UTC:20260912T235959
DTSTAMP:20260423T194833
CREATED:20260411T093845Z
LAST-MODIFIED:20260411T093845Z
UID:366-1789171200-1789257599@eci.com.al
SUMMARY:C1 (CAE)
DESCRIPTION:
URL:https://eci.com.al/calendar-event/c1-cae-3/
LOCATION:Tirana\, Albania
ORGANIZER;CN="English Cultural Institute":MAILTO:englishculturalinstitute@gmail.com
END:VEVENT
BEGIN:VEVENT
DTSTART;TZID=UTC:20260919T000000
DTEND;TZID=UTC:20260919T235959
DTSTAMP:20260423T194833
CREATED:20260411T093918Z
LAST-MODIFIED:20260411T093918Z
UID:368-1789776000-1789862399@eci.com.al
SUMMARY:B2 (FCE Fs)
DESCRIPTION:
URL:https://eci.com.al/calendar-event/b2-fce-fs-3/
LOCATION:Tirana\, Albania
ORGANIZER;CN="English Cultural Institute":MAILTO:englishculturalinstitute@gmail.com
END:VEVENT
END:VCALENDAR