BEGIN:VCALENDAR
VERSION:2.0
PRODID:-//Welcome - ECPv6.15.20//NONSGML v1.0//EN
CALSCALE:GREGORIAN
METHOD:PUBLISH
X-WR-CALNAME:Welcome
X-ORIGINAL-URL:https://eci.com.al
X-WR-CALDESC:Events for Welcome
REFRESH-INTERVAL;VALUE=DURATION:PT1H
X-Robots-Tag:noindex
X-PUBLISHED-TTL:PT1H
BEGIN:VTIMEZONE
TZID:UTC
BEGIN:STANDARD
TZOFFSETFROM:+0000
TZOFFSETTO:+0000
TZNAME:UTC
DTSTART:20250101T000000
END:STANDARD
END:VTIMEZONE
BEGIN:VEVENT
DTSTART;TZID=UTC:20261010T000000
DTEND;TZID=UTC:20261010T235959
DTSTAMP:20260423T205055
CREATED:20260411T093948Z
LAST-MODIFIED:20260411T093948Z
UID:370-1791590400-1791676799@eci.com.al
SUMMARY:B2 (FCE)
DESCRIPTION:
URL:https://eci.com.al/calendar-event/b2-fce/
LOCATION:Tirana\, Albania
ORGANIZER;CN="English Cultural Institute":MAILTO:englishculturalinstitute@gmail.com
END:VEVENT
BEGIN:VEVENT
DTSTART;TZID=UTC:20261017T000000
DTEND;TZID=UTC:20261017T235959
DTSTAMP:20260423T205055
CREATED:20260411T094023Z
LAST-MODIFIED:20260411T094023Z
UID:372-1792195200-1792281599@eci.com.al
SUMMARY:C1 (CAE)
DESCRIPTION:
URL:https://eci.com.al/calendar-event/c1-cae-4/
LOCATION:Tirana\, Albania
ORGANIZER;CN="English Cultural Institute":MAILTO:englishculturalinstitute@gmail.com
END:VEVENT
END:VCALENDAR